BEGIN:VCALENDAR
VERSION:2.0
PRODID:-//Claverley Parish Community Portal - ECPv6.15.20//NONSGML v1.0//EN
CALSCALE:GREGORIAN
METHOD:PUBLISH
X-ORIGINAL-URL:https://claverleyparish.co.uk
X-WR-CALDESC:Events for Claverley Parish Community Portal
REFRESH-INTERVAL;VALUE=DURATION:PT1H
X-Robots-Tag:noindex
X-PUBLISHED-TTL:PT1H
BEGIN:VTIMEZONE
TZID:UTC
BEGIN:STANDARD
TZOFFSETFROM:+0000
TZOFFSETTO:+0000
TZNAME:UTC
DTSTART:20210101T000000
END:STANDARD
END:VTIMEZONE
BEGIN:VEVENT
DTSTART;TZID=UTC:20251018T180000
DTEND;TZID=UTC:20251018T213000
DTSTAMP:20260423T172910
CREATED:20251008T132705Z
LAST-MODIFIED:20251008T132705Z
UID:1923-1760810400-1760823000@claverleyparish.co.uk
SUMMARY:Bingo
DESCRIPTION:Doors & Bar open at 6pm. \nEyes down at 6.45pm. \nTickets – £8 per person for 7 games or you can pay on the door. \n 
URL:https://claverleyparish.co.uk/event/bingo/
LOCATION:Claverley Village Hall\, Church Street\, Claverley\, WV5 7DS\, United Kingdom
END:VEVENT
BEGIN:VEVENT
DTSTART;TZID=UTC:20251011T190000
DTEND;TZID=UTC:20251011T230000
DTSTAMP:20260423T172910
CREATED:20251008T132532Z
LAST-MODIFIED:20251008T132532Z
UID:1920-1760209200-1760223600@claverleyparish.co.uk
SUMMARY:Oktoberfest
DESCRIPTION:Fun filled evening with live entertainment. \nTickets £20 includes traditional food. \nPrizes for best dressed. \nTickets available from the Plough\, Crown & Rudge Heath Stores.
URL:https://claverleyparish.co.uk/event/oktoberfest/
LOCATION:Claverley Village Hall\, Church Street\, Claverley\, WV5 7DS\, United Kingdom
END:VEVENT
BEGIN:VEVENT
DTSTART;VALUE=DATE:20241012
DTEND;VALUE=DATE:20241013
DTSTAMP:20260423T172910
CREATED:20240225T201137Z
LAST-MODIFIED:20240225T201822Z
UID:1775-1728691200-1728777599@claverleyparish.co.uk
SUMMARY:Worfield Ball
DESCRIPTION:
URL:https://claverleyparish.co.uk/event/worfield-ball/
END:VEVENT
BEGIN:VEVENT
DTSTART;TZID=UTC:20240420T193000
DTEND;TZID=UTC:20240420T233000
DTSTAMP:20260423T172910
CREATED:20240225T201448Z
LAST-MODIFIED:20240225T201448Z
UID:1781-1713641400-1713655800@claverleyparish.co.uk
SUMMARY:Claverley School - Tribute Night
DESCRIPTION:Tickets available from the Claverley School PTA – £20 each.
URL:https://claverleyparish.co.uk/event/claverley-school-tribute-night/
LOCATION:Claverley Village Hall\, Church Street\, Claverley\, WV5 7DS\, United Kingdom
END:VEVENT
BEGIN:VEVENT
DTSTART;VALUE=DATE:20240325
DTEND;VALUE=DATE:20240326
DTSTAMP:20260423T172910
CREATED:20240325T190036Z
LAST-MODIFIED:20240225T202021Z
UID:1785-1711324800-1711411199@claverleyparish.co.uk
SUMMARY:Egyptian Evening
DESCRIPTION:In aid of the RNLI.
URL:https://claverleyparish.co.uk/event/egyptian-evening-2/
LOCATION:The Plough
END:VEVENT
BEGIN:VEVENT
DTSTART;TZID=UTC:20240320T181500
DTEND;TZID=UTC:20240320T203000
DTSTAMP:20260423T172910
CREATED:20240225T201256Z
LAST-MODIFIED:20240225T201256Z
UID:1777-1710958500-1710966600@claverleyparish.co.uk
SUMMARY:Claverley in Bloom - Petals\, Pudding & Port Night
DESCRIPTION:Tickets are £35 – available from the Plough
URL:https://claverleyparish.co.uk/event/claverley-in-bloom-petals-pudding-port-night/
LOCATION:The Plough
END:VEVENT
BEGIN:VEVENT
DTSTART;TZID=UTC:20240127T193000
DTEND;TZID=UTC:20240127T193000
DTSTAMP:20260423T172910
CREATED:20230713T190519Z
LAST-MODIFIED:20230713T190519Z
UID:1710-1706383800-1706383800@claverleyparish.co.uk
SUMMARY:Tennis Club Horse Racing Evening
DESCRIPTION:
URL:https://claverleyparish.co.uk/event/tennis-club-horse-racing-evening/
LOCATION:Claverley Village Hall\, Church Street\, Claverley\, WV5 7DS\, United Kingdom
END:VEVENT
BEGIN:VEVENT
DTSTART;TZID=UTC:20231221T183000
DTEND;TZID=UTC:20231221T183000
DTSTAMP:20260423T172910
CREATED:20231108T130805Z
LAST-MODIFIED:20231108T130805Z
UID:1759-1703183400-1703183400@claverleyparish.co.uk
SUMMARY:Christmas Tennis Mix-in
DESCRIPTION:
URL:https://claverleyparish.co.uk/event/christmas-tennis-mix-in/
END:VEVENT
BEGIN:VEVENT
DTSTART;TZID=UTC:20231216T193000
DTEND;TZID=UTC:20231216T193000
DTSTAMP:20260423T172910
CREATED:20230713T190433Z
LAST-MODIFIED:20231108T130512Z
UID:1708-1702755000-1702755000@claverleyparish.co.uk
SUMMARY:Tennis Club Glitter Ball featuring Jazzy J
DESCRIPTION:
URL:https://claverleyparish.co.uk/event/tennis-club-glitter-ball-featuring-jazzy-j/
LOCATION:Claverley Village Hall\, Church Street\, Claverley\, WV5 7DS\, United Kingdom
END:VEVENT
BEGIN:VEVENT
DTSTART;TZID=UTC:20231209T190000
DTEND;TZID=UTC:20231209T190000
DTSTAMP:20260423T172910
CREATED:20231108T130619Z
LAST-MODIFIED:20231108T130938Z
UID:1754-1702148400-1702148400@claverleyparish.co.uk
SUMMARY:Irish Party
DESCRIPTION:
URL:https://claverleyparish.co.uk/event/irish-party/
LOCATION:The Plough
END:VEVENT
BEGIN:VEVENT
DTSTART;VALUE=DATE:20231206
DTEND;VALUE=DATE:20231207
DTSTAMP:20260423T172910
CREATED:20231108T130702Z
LAST-MODIFIED:20231108T130702Z
UID:1757-1701820800-1701907199@claverleyparish.co.uk
SUMMARY:Claverley Tennis Club - Members Awards & Dinner
DESCRIPTION:
URL:https://claverleyparish.co.uk/event/claverley-tennis-club-members-awards-dinner/
LOCATION:The Plough
END:VEVENT
BEGIN:VEVENT
DTSTART;TZID=UTC:20231129T181500
DTEND;TZID=UTC:20231129T203000
DTSTAMP:20260423T172910
CREATED:20231108T130907Z
LAST-MODIFIED:20231108T130907Z
UID:1761-1701281700-1701289800@claverleyparish.co.uk
SUMMARY:Claverley in Bloom - Wreath Workshop
DESCRIPTION:£35 including a cheese and wine supper as well as your wreath to take home
URL:https://claverleyparish.co.uk/event/claverley-in-bloom-wreath-workshop/
LOCATION:The Plough
END:VEVENT
BEGIN:VEVENT
DTSTART;TZID=UTC:20231117T193000
DTEND;TZID=UTC:20231117T193000
DTSTAMP:20260423T172910
CREATED:20230713T190719Z
LAST-MODIFIED:20230713T190719Z
UID:1712-1700249400-1700249400@claverleyparish.co.uk
SUMMARY:Race Night - Friends of Claverley Church
DESCRIPTION:
URL:https://claverleyparish.co.uk/event/race-night-friends-of-claverley-church/
LOCATION:Claverley Village Hall\, Church Street\, Claverley\, WV5 7DS\, United Kingdom
END:VEVENT
BEGIN:VEVENT
DTSTART;TZID=UTC:20231025T193000
DTEND;TZID=UTC:20231025T193000
DTSTAMP:20260423T172910
CREATED:20231002T073003Z
LAST-MODIFIED:20231002T073003Z
UID:1738-1698262200-1698262200@claverleyparish.co.uk
SUMMARY:Claverley in Bloom Quiz
DESCRIPTION:Maximum of 6 per team. \nEntry fee of £6.50 per person.
URL:https://claverleyparish.co.uk/event/claverley-in-bloom-quiz/
LOCATION:The Plough (Barn)
END:VEVENT
BEGIN:VEVENT
DTSTART;TZID=UTC:20231020T193000
DTEND;TZID=UTC:20231020T230000
DTSTAMP:20260423T172910
CREATED:20230713T190208Z
LAST-MODIFIED:20230713T190208Z
UID:1704-1697830200-1697842800@claverleyparish.co.uk
SUMMARY:Tennis Club Barn Dance
DESCRIPTION:
URL:https://claverleyparish.co.uk/event/tennis-club-barn-dance/
LOCATION:Claverley Village Hall\, Church Street\, Claverley\, WV5 7DS\, United Kingdom
END:VEVENT
BEGIN:VEVENT
DTSTART;TZID=UTC:20231018T190000
DTEND;TZID=UTC:20231018T190000
DTSTAMP:20260423T172910
CREATED:20230713T190328Z
LAST-MODIFIED:20230713T190834Z
UID:1706-1697655600-1697655600@claverleyparish.co.uk
SUMMARY:Tennis Club Awards Evening
DESCRIPTION:
URL:https://claverleyparish.co.uk/event/tennis-clube-awards-evening/
LOCATION:Claverley Village Hall\, Church Street\, Claverley\, WV5 7DS\, United Kingdom
END:VEVENT
BEGIN:VEVENT
DTSTART;TZID=UTC:20231007T093000
DTEND;TZID=UTC:20231007T150000
DTSTAMP:20260423T172910
CREATED:20231002T072848Z
LAST-MODIFIED:20231002T072848Z
UID:1735-1696671000-1696690800@claverleyparish.co.uk
SUMMARY:Claverley in Bloom Autumn Plant Sale
DESCRIPTION:
URL:https://claverleyparish.co.uk/event/claverley-in-bloom-autumn-plant-sale/
LOCATION:The Plough (Barn)
END:VEVENT
BEGIN:VEVENT
DTSTART;TZID=UTC:20231007T080000
DTEND;TZID=UTC:20231008T170000
DTSTAMP:20260423T172910
CREATED:20230913T214904Z
LAST-MODIFIED:20230913T214904Z
UID:1733-1696665600-1696784400@claverleyparish.co.uk
SUMMARY:Pumpkin Festival
DESCRIPTION:For further details please refer to https://www.claverley-tuckhill.co.uk
URL:https://claverleyparish.co.uk/event/pumpkin-festival/
LOCATION:Claverley\, United Kingdom
END:VEVENT
BEGIN:VEVENT
DTSTART;VALUE=DATE:20230701
DTEND;VALUE=DATE:20230702
DTSTAMP:20260423T172910
CREATED:20230327T104408Z
LAST-MODIFIED:20230327T104408Z
UID:1662-1688169600-1688255999@claverleyparish.co.uk
SUMMARY:Bridgnorth Male Voice Choir Concert
DESCRIPTION:
URL:https://claverleyparish.co.uk/event/bridgnorth-male-voice-choir-concert/
LOCATION:Claverley Church
END:VEVENT
BEGIN:VEVENT
DTSTART;VALUE=DATE:20230622
DTEND;VALUE=DATE:20230623
DTSTAMP:20260423T172910
CREATED:20230327T104500Z
LAST-MODIFIED:20230327T104500Z
UID:1665-1687392000-1687478399@claverleyparish.co.uk
SUMMARY:Ascot Ladies Day
DESCRIPTION:
URL:https://claverleyparish.co.uk/event/ascot-ladies-day/
LOCATION:Worfield Cricket Club
END:VEVENT
BEGIN:VEVENT
DTSTART;TZID=UTC:20230218T100000
DTEND;TZID=UTC:20230218T120000
DTSTAMP:20260423T172910
CREATED:20230129T183703Z
LAST-MODIFIED:20230129T183703Z
UID:1647-1676714400-1676721600@claverleyparish.co.uk
SUMMARY:Defibrillator & CPR familiarisation training
DESCRIPTION:
URL:https://claverleyparish.co.uk/event/defibrillator-cpr-familiarisation-training/
LOCATION:Worfield Village Hall\, WV15 5NS
END:VEVENT
BEGIN:VEVENT
DTSTART;TZID=UTC:20221212T193000
DTEND;TZID=UTC:20221212T213000
DTSTAMP:20260423T172910
CREATED:20220516T111728Z
LAST-MODIFIED:20220516T111728Z
UID:1521-1670873400-1670880600@claverleyparish.co.uk
SUMMARY:Parish Council Meeting
DESCRIPTION:
URL:https://claverleyparish.co.uk/event/parish-council-meeting-8/
LOCATION:Claverley Village Hall\, Church Street\, Claverley\, WV5 7DS\, United Kingdom
END:VEVENT
BEGIN:VEVENT
DTSTART;VALUE=DATE:20221209
DTEND;VALUE=DATE:20221210
DTSTAMP:20260423T172910
CREATED:20221205T090637Z
LAST-MODIFIED:20221205T090637Z
UID:1624-1670544000-1670630399@claverleyparish.co.uk
SUMMARY:Tennis Club - Glitterball Disco
DESCRIPTION:
URL:https://claverleyparish.co.uk/event/tennis-club-glitterball-disco/
END:VEVENT
BEGIN:VEVENT
DTSTART;TZID=UTC:20221114T193000
DTEND;TZID=UTC:20221114T213000
DTSTAMP:20260423T172910
CREATED:20220516T111654Z
LAST-MODIFIED:20220516T111654Z
UID:1519-1668454200-1668461400@claverleyparish.co.uk
SUMMARY:Parish Council Meeting
DESCRIPTION:
URL:https://claverleyparish.co.uk/event/parish-council-meeting-6/
LOCATION:Claverley Village Hall\, Church Street\, Claverley\, WV5 7DS\, United Kingdom
END:VEVENT
BEGIN:VEVENT
DTSTART;TZID=UTC:20221010T193000
DTEND;TZID=UTC:20221010T213000
DTSTAMP:20260423T172910
CREATED:20220516T111531Z
LAST-MODIFIED:20220516T111531Z
UID:1517-1665430200-1665437400@claverleyparish.co.uk
SUMMARY:Parish Council Meeting
DESCRIPTION:
URL:https://claverleyparish.co.uk/event/parish-council-meeting-7/
LOCATION:Claverley Village Hall\, Church Street\, Claverley\, WV5 7DS\, United Kingdom
END:VEVENT
BEGIN:VEVENT
DTSTART;TZID=UTC:20220912T193000
DTEND;TZID=UTC:20220912T213000
DTSTAMP:20260423T172910
CREATED:20220516T111427Z
LAST-MODIFIED:20220516T111427Z
UID:1513-1663011000-1663018200@claverleyparish.co.uk
SUMMARY:Parish Council Meeting
DESCRIPTION:
URL:https://claverleyparish.co.uk/event/parish-council-meeting-5/
LOCATION:Claverley Village Hall\, Church Street\, Claverley\, WV5 7DS\, United Kingdom
END:VEVENT
BEGIN:VEVENT
DTSTART;TZID=UTC:20220808T193000
DTEND;TZID=UTC:20220808T213000
DTSTAMP:20260423T172910
CREATED:20220516T110124Z
LAST-MODIFIED:20220516T110124Z
UID:1506-1659987000-1659994200@claverleyparish.co.uk
SUMMARY:Parish Council Meeting
DESCRIPTION:
URL:https://claverleyparish.co.uk/event/parish-council-meeting-3/
LOCATION:Claverley Village Hall\, Church Street\, Claverley\, WV5 7DS\, United Kingdom
END:VEVENT
BEGIN:VEVENT
DTSTART;TZID=UTC:20220711T193000
DTEND;TZID=UTC:20220711T213000
DTSTAMP:20260423T172910
CREATED:20220516T110040Z
LAST-MODIFIED:20220516T110040Z
UID:1504-1657567800-1657575000@claverleyparish.co.uk
SUMMARY:Parish Council Meeting
DESCRIPTION:
URL:https://claverleyparish.co.uk/event/parish-council-meeting-2/
LOCATION:Claverley Village Hall\, Church Street\, Claverley\, WV5 7DS\, United Kingdom
END:VEVENT
BEGIN:VEVENT
DTSTART;TZID=UTC:20220613T193000
DTEND;TZID=UTC:20220613T213000
DTSTAMP:20260423T172910
CREATED:20220516T105912Z
LAST-MODIFIED:20220516T110636Z
UID:1501-1655148600-1655155800@claverleyparish.co.uk
SUMMARY:Parish Council Meeting
DESCRIPTION:
URL:https://claverleyparish.co.uk/event/parish-council-meeting/
LOCATION:Claverley Village Hall\, Church Street\, Claverley\, WV5 7DS\, United Kingdom
END:VEVENT
BEGIN:VEVENT
DTSTART;TZID=UTC:20220605T120000
DTEND;TZID=UTC:20220605T183000
DTSTAMP:20260423T172910
CREATED:20220516T111331Z
LAST-MODIFIED:20220516T111331Z
UID:1510-1654430400-1654453800@claverleyparish.co.uk
SUMMARY:Jubilee Celebration
DESCRIPTION:
URL:https://claverleyparish.co.uk/event/jubilee-celebration/
LOCATION:Claverley\, United Kingdom
END:VEVENT
END:VCALENDAR